BEGIN:VCALENDAR
VERSION:2.0
PRODID:Comissão de Festa da Portela - Passagem de Ano 25/26
X-WR-CALNAME:Comissão de Festa da Portela - Passagem de Ano 25/26
X-WR-TIMEZONE:Europe/Lisbon
X-PUBLISHED-TTL:P1W
BEGIN:VTIMEZONE
TZID:Europe/Lisbon
X-LIC-LOCATION:Europe/Lisbon
END:VTIMEZONE
BEGIN:VEVENT
UID:69e4c6960c6da
DTSTART;VALUE=DATE:20251231
SEQUENCE:0
TRANSP:OPAQUE
DTEND;VALUE=DATE:20260101
SUMMARY:Comissão de Festa da Portela - Passagem de Ano 25/26
CLASS:PUBLIC
DESCRIPTION:Comissão de Festa da Portela - Passagem de Ano 25/26
X-MICROSOFT-CDO-ALLDAYEVENT:TRUE
DTSTAMP:20260419T121206Z
END:VEVENT
END:VCALENDAR