BEGIN:VCALENDAR
VERSION:2.0
PRODID:Festa Natal das crianças 2025
X-WR-CALNAME:Festa Natal das crianças 2025
X-WR-TIMEZONE:Europe/Lisbon
X-PUBLISHED-TTL:P1W
BEGIN:VTIMEZONE
TZID:Europe/Lisbon
X-LIC-LOCATION:Europe/Lisbon
END:VTIMEZONE
BEGIN:VEVENT
UID:69e4c5e12d816
DTSTART;VALUE=DATE:20251221
SEQUENCE:0
TRANSP:OPAQUE
DTEND;VALUE=DATE:20251222
SUMMARY:Festa Natal das crianças 2025
CLASS:PUBLIC
DESCRIPTION:Festa de Natal das Crianças 2025
X-MICROSOFT-CDO-ALLDAYEVENT:TRUE
DTSTAMP:20260419T120905Z
END:VEVENT
END:VCALENDAR