BEGIN:VCALENDAR
VERSION:2.0
PRODID:Torneio de Matraquilhos - Ribeira dos Moinhos
X-WR-CALNAME:Torneio de Matraquilhos - Ribeira dos Moinhos
X-WR-TIMEZONE:Europe/Lisbon
X-PUBLISHED-TTL:P1W
BEGIN:VTIMEZONE
TZID:Europe/Lisbon
X-LIC-LOCATION:Europe/Lisbon
END:VTIMEZONE
BEGIN:VEVENT
UID:69e4c5ec28eca
DTSTART;VALUE=DATE:20260117
SEQUENCE:0
TRANSP:OPAQUE
DTEND;VALUE=DATE:20260118
SUMMARY:Torneio de Matraquilhos - Ribeira dos Moinhos
CLASS:PUBLIC
DESCRIPTION:Torneio de Matraquilhos - Ribeira dos Moinhos
X-MICROSOFT-CDO-ALLDAYEVENT:TRUE
DTSTAMP:20260419T120916Z
END:VEVENT
END:VCALENDAR