BEGIN:VCALENDAR
VERSION:2.0
PRODID:Teatro de Rua - CAF Tentúgal
X-WR-CALNAME:Teatro de Rua - CAF Tentúgal
X-WR-TIMEZONE:Europe/Lisbon
X-PUBLISHED-TTL:P1W
BEGIN:VTIMEZONE
TZID:Europe/Lisbon
X-LIC-LOCATION:Europe/Lisbon
END:VTIMEZONE
BEGIN:VEVENT
UID:69e4c69c78d13
DTSTART;VALUE=DATE:20251213
SEQUENCE:0
TRANSP:OPAQUE
DTEND;VALUE=DATE:20251214
SUMMARY:Teatro de Rua - CAF Tentúgal
CLASS:PUBLIC
DESCRIPTION:Teatro de Rua - CAF Tentúgal\"Embalando o Menino\"
X-MICROSOFT-CDO-ALLDAYEVENT:TRUE
DTSTAMP:20260419T121212Z
END:VEVENT
END:VCALENDAR