BEGIN:VCALENDAR
VERSION:2.0
PRODID:Feira Quinzenal  
X-WR-CALNAME:Feira Quinzenal  
X-WR-TIMEZONE:Europe/Lisbon
X-PUBLISHED-TTL:P1W
BEGIN:VTIMEZONE
TZID:Europe/Lisbon
X-LIC-LOCATION:Europe/Lisbon
END:VTIMEZONE
BEGIN:VEVENT
UID:69e4c60ce3a4c
DTSTART;VALUE=DATE:20251105
SEQUENCE:0
TRANSP:OPAQUE
DTEND;VALUE=DATE:20251106
SUMMARY:Feira Quinzenal  
CLASS:PUBLIC
DESCRIPTION:Feira Quinzenal  Visite-nos e será bem recebido
X-MICROSOFT-CDO-ALLDAYEVENT:TRUE
DTSTAMP:20260419T120948Z
END:VEVENT
END:VCALENDAR