BEGIN:VCALENDAR
VERSION:2.0
PRODID:Feira Anual de Todos os Santos
X-WR-CALNAME:Feira Anual de Todos os Santos
X-WR-TIMEZONE:Europe/Lisbon
X-PUBLISHED-TTL:P1W
BEGIN:VTIMEZONE
TZID:Europe/Lisbon
X-LIC-LOCATION:Europe/Lisbon
END:VTIMEZONE
BEGIN:VEVENT
UID:69e4c5d2646e9
DTSTART;VALUE=DATE:20251101
SEQUENCE:0
TRANSP:OPAQUE
DTEND;VALUE=DATE:20251102
SUMMARY:Feira Anual de Todos os Santos
CLASS:PUBLIC
DESCRIPTION:Visite a nossa feira centária!
X-MICROSOFT-CDO-ALLDAYEVENT:TRUE
DTSTAMP:20260419T120850Z
END:VEVENT
END:VCALENDAR